BEGIN:VCALENDAR
VERSION:2.0
PRODID:-//GCRW - ECPv6.15.20//NONSGML v1.0//EN
CALSCALE:GREGORIAN
METHOD:PUBLISH
X-ORIGINAL-URL:https://gcrw.org
X-WR-CALDESC:Events for GCRW
REFRESH-INTERVAL;VALUE=DURATION:PT1H
X-Robots-Tag:noindex
X-PUBLISHED-TTL:PT1H
BEGIN:VTIMEZONE
TZID:UTC
BEGIN:STANDARD
TZOFFSETFROM:+0000
TZOFFSETTO:+0000
TZNAME:UTC
DTSTART:20200101T000000
END:STANDARD
END:VTIMEZONE
BEGIN:VEVENT
DTSTART;TZID=UTC:20211106T110000
DTEND;TZID=UTC:20211106T130000
DTSTAMP:20260420T062241
CREATED:20211006T113845Z
LAST-MODIFIED:20211016T010707Z
UID:919-1636196400-1636203600@gcrw.org
SUMMARY:Membership Luncheon
DESCRIPTION:Join GCRW on Saturday\, November 6th from 11am-1pm for our Annual Membership Luncheon at the home of Keresa Richardson in McKinney. \nOur special guests speakers will be State Rep Candy Noble and Texas Senator\, Angela Paxton. \nThis event is open to members and non-members to learn about the GCRW and its mission. We encourage members to bring at least one non-member. \nRegistration is required. \n\n  \nREGISTRATION LINK\n  \n  \n  \n 
URL:https://gcrw.org/event/november-2021-meeting/
LOCATION:The Home of Keresa Richardson\, McKinney\, Texas
CATEGORIES:Meetings
ATTACH;FMTTYPE=image/jpeg:https://gcrw.org/wp-content/uploads/2021/10/GCRW-11.2021-final-for-website.jpg
END:VEVENT
END:VCALENDAR