BEGIN:VCALENDAR
VERSION:2.0
PRODID:-//GCRW - ECPv6.15.20//NONSGML v1.0//EN
CALSCALE:GREGORIAN
METHOD:PUBLISH
X-ORIGINAL-URL:https://gcrw.org
X-WR-CALDESC:Events for GCRW
REFRESH-INTERVAL;VALUE=DURATION:PT1H
X-Robots-Tag:noindex
X-PUBLISHED-TTL:PT1H
BEGIN:VTIMEZONE
TZID:UTC
BEGIN:STANDARD
TZOFFSETFROM:+0000
TZOFFSETTO:+0000
TZNAME:UTC
DTSTART:20210101T000000
END:STANDARD
END:VTIMEZONE
BEGIN:VEVENT
DTSTART;TZID=UTC:20220128T173000
DTEND;TZID=UTC:20220129T203000
DTSTAMP:20260420T032554
CREATED:20211230T151519Z
LAST-MODIFIED:20211230T151519Z
UID:1864-1643391000-1643488200@gcrw.org
SUMMARY:TFRW Leadership Day 2022
DESCRIPTION:Leadership Day 2022 \nEarly Bird Registration Extended Through Thursday\, December 30th! \nTFRW Project Managers Sylvia Gartner and Carolyn Besselman have created a Groundbreaking Leadership Development Program for women from all over Texas. \nJoin us for TFRW’s Leadership Day where you will hone your skills with the latest tools and blueprints for building a successful year. Forget DYI. Our experts will provide you with great insight and inspiration to get the job done right! \nNo matter your clubs size\, Leadership Day will provide you all the skills needed to fill the job. Gather your crew and join women from across Texas who are ready to break new ground and build even better in 2022. Register today! \nCLICK HERE to reserve your hotel room at the Embassy Suites by Hilton San Marcos at the special TFRW group rate! \nCome early and take advantage of this easy opportunity to attend a TFRW Board Meeting. CLICK HERE for meeting registration information!\nCLICK LINK BELOW FOR MORE INFORMATION AND TO REGISTER \n  \nREGISTER HERE\n  \n 
URL:https://gcrw.org/event/tfrw-leadership-day-2022/
LOCATION:Embassy Suites San Marcos Hotel\, 1001 E McCarty Lane\, San Marcos\, TX\, 78666
CATEGORIES:outside event
ATTACH;FMTTYPE=image/jpeg:https://gcrw.org/wp-content/uploads/2021/12/https-_cdn.evbuc_.com_images_199458309_224177944249_1_original.20211210-205212.jpg
END:VEVENT
END:VCALENDAR