BEGIN:VCALENDAR
VERSION:2.0
PRODID:-//GCRW - ECPv6.15.20//NONSGML v1.0//EN
CALSCALE:GREGORIAN
METHOD:PUBLISH
X-ORIGINAL-URL:https://gcrw.org
X-WR-CALDESC:Events for GCRW
REFRESH-INTERVAL;VALUE=DURATION:PT1H
X-Robots-Tag:noindex
X-PUBLISHED-TTL:PT1H
BEGIN:VTIMEZONE
TZID:America/Chicago
BEGIN:DAYLIGHT
TZOFFSETFROM:-0600
TZOFFSETTO:-0500
TZNAME:CDT
DTSTART:20230312T080000
END:DAYLIGHT
BEGIN:STANDARD
TZOFFSETFROM:-0500
TZOFFSETTO:-0600
TZNAME:CST
DTSTART:20231105T070000
END:STANDARD
BEGIN:DAYLIGHT
TZOFFSETFROM:-0600
TZOFFSETTO:-0500
TZNAME:CDT
DTSTART:20240310T080000
END:DAYLIGHT
BEGIN:STANDARD
TZOFFSETFROM:-0500
TZOFFSETTO:-0600
TZNAME:CST
DTSTART:20241103T070000
END:STANDARD
BEGIN:DAYLIGHT
TZOFFSETFROM:-0600
TZOFFSETTO:-0500
TZNAME:CDT
DTSTART:20250309T080000
END:DAYLIGHT
BEGIN:STANDARD
TZOFFSETFROM:-0500
TZOFFSETTO:-0600
TZNAME:CST
DTSTART:20251102T070000
END:STANDARD
END:VTIMEZONE
BEGIN:VEVENT
DTSTART;TZID=America/Chicago:20240801T180000
DTEND;TZID=America/Chicago:20240801T210000
DTSTAMP:20260419T133030
CREATED:20240404T005819Z
LAST-MODIFIED:20240702T221231Z
UID:2876-1722535200-1722546000@gcrw.org
SUMMARY:GCRW August General Meeting
DESCRIPTION:GCRW Monthly Programs take place on the 1st Thursday of each month at Cottonwood Creek Church-Allen except in the months of January\, June\, July\, and December. \nCome Meet Your Newly Elected County\, State\, and National Party Officials \nDoors Open at 6:00pm\nProgram Starts at 6:30pm \nMark Your Calendar for\n2024 General Programs \nAugust 1\nSeptember 5\nOctober 3\nNovember 7
URL:https://gcrw.org/event/gcrw-august-general-meeting/
LOCATION:Cottonwood Creek Church in Allen\, 1015 Sam Rayburn Tollway\, Allen\, 75013
CATEGORIES:Meetings
ATTACH;FMTTYPE=image/png:https://gcrw.org/wp-content/uploads/2024/04/GCRW-Aug-Mtg-2024.png
END:VEVENT
END:VCALENDAR