BEGIN:VCALENDAR
VERSION:2.0
PRODID:-//GCRW - ECPv6.15.20//NONSGML v1.0//EN
CALSCALE:GREGORIAN
METHOD:PUBLISH
X-WR-CALNAME:GCRW
X-ORIGINAL-URL:https://gcrw.org
X-WR-CALDESC:Events for GCRW
REFRESH-INTERVAL;VALUE=DURATION:PT1H
X-Robots-Tag:noindex
X-PUBLISHED-TTL:PT1H
BEGIN:VTIMEZONE
TZID:America/Chicago
BEGIN:DAYLIGHT
TZOFFSETFROM:-0600
TZOFFSETTO:-0500
TZNAME:CDT
DTSTART:20230312T080000
END:DAYLIGHT
BEGIN:STANDARD
TZOFFSETFROM:-0500
TZOFFSETTO:-0600
TZNAME:CST
DTSTART:20231105T070000
END:STANDARD
BEGIN:DAYLIGHT
TZOFFSETFROM:-0600
TZOFFSETTO:-0500
TZNAME:CDT
DTSTART:20240310T080000
END:DAYLIGHT
BEGIN:STANDARD
TZOFFSETFROM:-0500
TZOFFSETTO:-0600
TZNAME:CST
DTSTART:20241103T070000
END:STANDARD
BEGIN:DAYLIGHT
TZOFFSETFROM:-0600
TZOFFSETTO:-0500
TZNAME:CDT
DTSTART:20250309T080000
END:DAYLIGHT
BEGIN:STANDARD
TZOFFSETFROM:-0500
TZOFFSETTO:-0600
TZNAME:CST
DTSTART:20251102T070000
END:STANDARD
END:VTIMEZONE
BEGIN:VEVENT
DTSTART;TZID=America/Chicago:20240201T180000
DTEND;TZID=America/Chicago:20240201T203000
DTSTAMP:20260421T033537
CREATED:20240104T225429Z
LAST-MODIFIED:20240105T085154Z
UID:2827-1706810400-1706819400@gcrw.org
SUMMARY:GCRW February 2024 meeting
DESCRIPTION:You do not want to miss “Candidate Speed Dating” on Thursday\, February 1\, 2024. Come meet and learn about the following candidates: \nTexas State House Races in Collin County:\nChuck Branch (Challenger – HD61)\nJoe Collins (Challenger – HD 70)\nRepresentative Frederick Frazier (Incumbent – HD 61)\nAbraham George (Challenger – HD 89)\nSteve Kinard (Challenger – HD 70)\nRepresentative Jeff Leach (Incumbent – HD 67)\nDaren Meis (Challenger – HD67)\nRepresentative Candy Noble (Incumbent – HD 89)\nWayne Richard (Challenger – HD 66)\nKeresa Richardson (Challenger – HD 61)\nRepresentative Matt Shaheen (Incumbent – HD 66) \n401st District Court of Collin County (Open Seat):\nKim Laseter\nJoel Petrazio\nShayla Smith \nCollin County Tax Assessor (Open Seat):\nScott Grigg\nCam McCall\nAngela Powell \nThursday\, February 1\, 2024\n6:00-8:30pm\n*Doors open at 6:00 p.m. and the program begins at 6:30 p.m.** \nHosted by GCRW\, PRW and RWGNT
URL:https://gcrw.org/event/gcrw-february-2024-meeting/
LOCATION:Cottonwood Creek Church in Allen\, 1015 Sam Rayburn Tollway\, Allen\, 75013
CATEGORIES:Meetings
ATTACH;FMTTYPE=image/png:https://gcrw.org/wp-content/uploads/2024/01/02-feb-2024-mtg.png
END:VEVENT
END:VCALENDAR