BEGIN:VCALENDAR
VERSION:2.0
PRODID:-//GCRW - ECPv6.15.20//NONSGML v1.0//EN
CALSCALE:GREGORIAN
METHOD:PUBLISH
X-WR-CALNAME:GCRW
X-ORIGINAL-URL:https://gcrw.org
X-WR-CALDESC:Events for GCRW
REFRESH-INTERVAL;VALUE=DURATION:PT1H
X-Robots-Tag:noindex
X-PUBLISHED-TTL:PT1H
BEGIN:VTIMEZONE
TZID:America/Chicago
BEGIN:DAYLIGHT
TZOFFSETFROM:-0600
TZOFFSETTO:-0500
TZNAME:CDT
DTSTART:20230312T080000
END:DAYLIGHT
BEGIN:STANDARD
TZOFFSETFROM:-0500
TZOFFSETTO:-0600
TZNAME:CST
DTSTART:20231105T070000
END:STANDARD
BEGIN:DAYLIGHT
TZOFFSETFROM:-0600
TZOFFSETTO:-0500
TZNAME:CDT
DTSTART:20240310T080000
END:DAYLIGHT
BEGIN:STANDARD
TZOFFSETFROM:-0500
TZOFFSETTO:-0600
TZNAME:CST
DTSTART:20241103T070000
END:STANDARD
BEGIN:DAYLIGHT
TZOFFSETFROM:-0600
TZOFFSETTO:-0500
TZNAME:CDT
DTSTART:20250309T080000
END:DAYLIGHT
BEGIN:STANDARD
TZOFFSETFROM:-0500
TZOFFSETTO:-0600
TZNAME:CST
DTSTART:20251102T070000
END:STANDARD
END:VTIMEZONE
BEGIN:VEVENT
DTSTART;TZID=America/Chicago:20240502T180000
DTEND;TZID=America/Chicago:20240502T210000
DTSTAMP:20260419T165016
CREATED:20240404T005612Z
LAST-MODIFIED:20240420T031609Z
UID:2874-1714672800-1714683600@gcrw.org
SUMMARY:GCRW May General Meeting
DESCRIPTION:GCRW Monthly Programs take place on the 1st Thursday of each month at Cottonwood Creek Church-Allen except in the months of January\, June\, July\, and December. \nDoors Open at 6:00pm\nPresentation Begins at 6:30pm \nMark Your Calendar for\n2024 General Programs \nMay 2\nAugust 1\nSeptember 5\nOctober 3\nNovember 7
URL:https://gcrw.org/event/gcrw-may-general-meeting/
LOCATION:Cottonwood Creek Church in Allen\, 1015 Sam Rayburn Tollway\, Allen\, 75013
CATEGORIES:Meetings
ATTACH;FMTTYPE=image/png:https://gcrw.org/wp-content/uploads/2024/04/unnamed-2.png
END:VEVENT
BEGIN:VEVENT
DTSTART;VALUE=DATE:20240523
DTEND;VALUE=DATE:20240526
DTSTAMP:20260419T165016
CREATED:20240404T031547Z
LAST-MODIFIED:20240404T031547Z
UID:2888-1716422400-1716681599@gcrw.org
SUMMARY:Texas GOP Convention in San Antonio\, May 23-25
DESCRIPTION:Let the excitement begin!!!  Golden Corridor Republican Women would like to continue to empower you to be a voice at every level for Judeo-Christian Republican values\, influence policy\, support candidates and engage 110 percent to achieve a Republican VICTORY in 2024. Our families are worth it!! \nKindly reach out to Lene DeRudder our VP of Campaigns & Legislation at\nladeruddergcrw@gmail.com with your interest to attend. This will be super exciting as YOU will be representing the club!! \nHere’s a link with general information about the state convention.\nhttps://texasgop.org/2024-state-convention/
URL:https://gcrw.org/event/texas-gop-convention-in-san-antonio-may-23-25/
LOCATION:TX
CATEGORIES:outside event
ATTACH;FMTTYPE=image/png:https://gcrw.org/wp-content/uploads/2024/04/unnamed.png
END:VEVENT
END:VCALENDAR